BEGIN:VCALENDAR
VERSION:2.0
PRODID:-//Funeraria Irun - ECPv6.15.20//NONSGML v1.0//EN
CALSCALE:GREGORIAN
METHOD:PUBLISH
X-WR-CALNAME:Funeraria Irun
X-ORIGINAL-URL:https://funerariairun.es
X-WR-CALDESC:Eventos para Funeraria Irun
REFRESH-INTERVAL;VALUE=DURATION:PT1H
X-Robots-Tag:noindex
X-PUBLISHED-TTL:PT1H
BEGIN:VTIMEZONE
TZID:Europe/Madrid
BEGIN:DAYLIGHT
TZOFFSETFROM:+0100
TZOFFSETTO:+0200
TZNAME:CEST
DTSTART:20250330T010000
END:DAYLIGHT
BEGIN:STANDARD
TZOFFSETFROM:+0200
TZOFFSETTO:+0100
TZNAME:CET
DTSTART:20251026T010000
END:STANDARD
BEGIN:DAYLIGHT
TZOFFSETFROM:+0100
TZOFFSETTO:+0200
TZNAME:CEST
DTSTART:20260329T010000
END:DAYLIGHT
BEGIN:STANDARD
TZOFFSETFROM:+0200
TZOFFSETTO:+0100
TZNAME:CET
DTSTART:20261025T010000
END:STANDARD
BEGIN:DAYLIGHT
TZOFFSETFROM:+0100
TZOFFSETTO:+0200
TZNAME:CEST
DTSTART:20270328T010000
END:DAYLIGHT
BEGIN:STANDARD
TZOFFSETFROM:+0200
TZOFFSETTO:+0100
TZNAME:CET
DTSTART:20271031T010000
END:STANDARD
END:VTIMEZONE
BEGIN:VEVENT
DTSTART;VALUE=DATE:20260419
DTEND;VALUE=DATE:20260421
DTSTAMP:20260420T182028
CREATED:20260419T114535Z
LAST-MODIFIED:20260420T120153Z
UID:122009-1776556800-1776729599@funerariairun.es
SUMMARY:Joxe Mari Celayeta Echeverria
DESCRIPTION: Joxe Mari Celayeta Echeverria\n– Goian bego – \n \n   2026ko apirilaren 19an hil da\, 72 urte zituela. \n«Maite dugun norbait oriotzapen bihurtzean\, oroimena altxor bihurtzen da» \nBere emaztea: Ixabel Olazabal; seme-alabak: Alaitz eta German\, Garbiñe eta Urko\, Iker; bilobak: Udane\, Lander\, Marene; anai-arrebak: Carlos (†) eta Txaro\, Joxean eta Maru; ezkon anai-arrebak: Inaxio(†) eta Anttoni; iloba\, lehengusu eta gainontzeko ahaideak. \nHaren animaren alde otoitz bat eskatzen dizuete eta arren etor zaiteztela GAUR ASTELEHENA\, arratsaldeko ZAZPIRETAN\, JASOKUNDEKO ETA SAGARRONDOKO ANDRE MARI parroki elizan egingo den hiletara. Aldez aurretik mila esker. \n  \nHONDARRIBIA\, 2026ko apirilak 19 \n  \nOharra: Gorpu beila GAUR 16:00etatik 20:00ak arte eta BIHAR 10:00etatik 16:00ak arte izango da IRUNGO ENALTA BEILATOKI ERRAUSTEGIAN (ARASO).
URL:https://funerariairun.es/esquela/joxe-mari-celayeta-echeverria/
LOCATION:Funeraria Irún – Tanatorio Araso\, Polígono Araso\, Erregeoiana 3\, \,\, Irún\, Guipúzcoa\, 20305\, España
END:VEVENT
END:VCALENDAR