BEGIN:VCALENDAR
VERSION:2.0
PRODID:-//Funeraria Irun - ECPv6.15.20//NONSGML v1.0//EN
CALSCALE:GREGORIAN
METHOD:PUBLISH
X-WR-CALNAME:Funeraria Irun
X-ORIGINAL-URL:https://funerariairun.es
X-WR-CALDESC:Eventos para Funeraria Irun
REFRESH-INTERVAL;VALUE=DURATION:PT1H
X-Robots-Tag:noindex
X-PUBLISHED-TTL:PT1H
BEGIN:VTIMEZONE
TZID:Europe/Madrid
BEGIN:DAYLIGHT
TZOFFSETFROM:+0100
TZOFFSETTO:+0200
TZNAME:CEST
DTSTART:20250330T010000
END:DAYLIGHT
BEGIN:STANDARD
TZOFFSETFROM:+0200
TZOFFSETTO:+0100
TZNAME:CET
DTSTART:20251026T010000
END:STANDARD
BEGIN:DAYLIGHT
TZOFFSETFROM:+0100
TZOFFSETTO:+0200
TZNAME:CEST
DTSTART:20260329T010000
END:DAYLIGHT
BEGIN:STANDARD
TZOFFSETFROM:+0200
TZOFFSETTO:+0100
TZNAME:CET
DTSTART:20261025T010000
END:STANDARD
BEGIN:DAYLIGHT
TZOFFSETFROM:+0100
TZOFFSETTO:+0200
TZNAME:CEST
DTSTART:20270328T010000
END:DAYLIGHT
BEGIN:STANDARD
TZOFFSETFROM:+0200
TZOFFSETTO:+0100
TZNAME:CET
DTSTART:20271031T010000
END:STANDARD
END:VTIMEZONE
BEGIN:VEVENT
DTSTART;VALUE=DATE:20260421
DTEND;VALUE=DATE:20260423
DTSTAMP:20260422T120306
CREATED:20260401T220017Z
LAST-MODIFIED:20260421T072020Z
UID:122022-1776729600-1776902399@funerariairun.es
SUMMARY:Laura Mouriño Pedrouso
DESCRIPTION:† Laura Mouriño Pedrouso\n-D.E.P.- \n \n(Vda de Luciano Morante) \nFalleció el 20 de abril de 2026 a los 72 años de edad\, después de recibir una oración de sus hijos\, partió a los brazos del señor. \nSus hijos: Virginia e Iker\, Beatriz y Juan Antonio\, Veronica (†)\, Izaskun (†)\, Vanesa y Said\, Arkaitz y Nelly; nietos: Tania y Jony\, Ismael\, Jonathan\, Leire\, Sara\, Diana\, Gabriel\, Lucia; biznietos: Dylan\, Eizan; primos y demás familiares. \nRuegan a sus amistades encomienden su alma a Dios y asistan a la despedida que se celebrarán HOY\, MARTES\, a las SEIS de la tarde\, en TANATORIO ARASO\, por todo lo cual les quedarán muy agradecidos. \nLezo\, 21 de abril de 2026 \nNota: Nota: El velatorio está instalado en el TANATORIO CREMATORIO ENALTA IRÚN (Pol. Araso) HOY de 10:00 a 13:00 y de 15:00 a 20:00
URL:https://funerariairun.es/esquela/laura-mourino-pedrouso/
LOCATION:Funeraria Irún – Tanatorio Araso\, Polígono Araso\, Erregeoiana 3\, \,\, Irún\, Guipúzcoa\, 20305\, España
END:VEVENT
BEGIN:VEVENT
DTSTART;VALUE=DATE:20260422
DTEND;VALUE=DATE:20260424
DTSTAMP:20260422T120306
CREATED:20260421T174641Z
LAST-MODIFIED:20260422T072247Z
UID:122028-1776816000-1776988799@funerariairun.es
SUMMARY:Juani Garmendia Davoz
DESCRIPTION:Juani Garmendia Davoz\n(Antonio Rebolloren alarguna) \n– Goian bego – \n \nAtzo hil zen\, 85 urte zituela\, Elizakoak eta Aita Santuaren Bedeinkapena hartu ondoren. \nSeme-alabak: Bego eta Euge\, Junkal eta Felix\, Juanan; bilobak: Oihana eta Mikel\, Leire\, Aritz eta Laura\, Enara\, Enaitz; birlobak: Iker\, Sugoi; anai-arrebak: Josetxo(†) eta Conchi\, Paki eta Esteban(†)\, Pilar eta Julian(†)\, Jose Joaquin(†) eta Clari\, Pedro(†) eta Ramoni\, Junkal eta Inaxio(†)\, Miguel Angel(†); eta gainerako ahaideak \n  \nHaren animaren alde otoitz bat eskatzen dizuete eta arren etor zaiteztela BIHAR OSTEGUNA\, arratsaldeko ZAZPIETAN\, LA MARINA parroki elizan egingo den hiletara. Aldez aurretik mila esker. \n  \n  \nHONDARRIBIA\, 2026ko apirilaren 22an \n  \nOharra: Gorputz beila ENALTA BEILATOKI  ERRAUZTEGIA (Araso Industrialdea) izango da\, GAUR 10etatik-13:30ak arte eta 16etakik- 20ak arte\, eta BIHAR 10etatik- 11ak arte.
URL:https://funerariairun.es/esquela/juani-garmendia-davoz/
LOCATION:Funeraria Irún – Tanatorio Araso\, Polígono Araso\, Erregeoiana 3\, \,\, Irún\, Guipúzcoa\, 20305\, España
END:VEVENT
END:VCALENDAR