BEGIN:VCALENDAR
VERSION:2.0
PRODID:-//Funeraria Irun - ECPv6.15.20//NONSGML v1.0//EN
CALSCALE:GREGORIAN
METHOD:PUBLISH
X-WR-CALNAME:Funeraria Irun
X-ORIGINAL-URL:https://funerariairun.es
X-WR-CALDESC:Eventos para Funeraria Irun
REFRESH-INTERVAL;VALUE=DURATION:PT1H
X-Robots-Tag:noindex
X-PUBLISHED-TTL:PT1H
BEGIN:VTIMEZONE
TZID:Europe/Madrid
BEGIN:DAYLIGHT
TZOFFSETFROM:+0100
TZOFFSETTO:+0200
TZNAME:CEST
DTSTART:20240331T010000
END:DAYLIGHT
BEGIN:STANDARD
TZOFFSETFROM:+0200
TZOFFSETTO:+0100
TZNAME:CET
DTSTART:20241027T010000
END:STANDARD
BEGIN:DAYLIGHT
TZOFFSETFROM:+0100
TZOFFSETTO:+0200
TZNAME:CEST
DTSTART:20250330T010000
END:DAYLIGHT
BEGIN:STANDARD
TZOFFSETFROM:+0200
TZOFFSETTO:+0100
TZNAME:CET
DTSTART:20251026T010000
END:STANDARD
BEGIN:DAYLIGHT
TZOFFSETFROM:+0100
TZOFFSETTO:+0200
TZNAME:CEST
DTSTART:20260329T010000
END:DAYLIGHT
BEGIN:STANDARD
TZOFFSETFROM:+0200
TZOFFSETTO:+0100
TZNAME:CET
DTSTART:20261025T010000
END:STANDARD
END:VTIMEZONE
BEGIN:VEVENT
DTSTART;VALUE=DATE:20250930
DTEND;VALUE=DATE:20251002
DTSTAMP:20260423T115602
CREATED:20250930T111042Z
LAST-MODIFIED:20250930T111104Z
UID:121064-1759190400-1759363199@funerariairun.es
SUMMARY:Maribel Álvarez Cortés
DESCRIPTION:  \n Maribel Álvarez Cortés\n-R.I.P.-\n \n  \nHa fallecido hoy a los 71 años de edad. \n  \nSu esposo: Alfonso; sus hijos: Javier y Nuria; su nieto: Oriol; hermanos\, sobrinos y demás familiares. \n  \nIRUN\, 30 de septiembre de 2025 \nNota: El velatorio está instalado en el TANATORIO CREMATORIO ARASO de IRUN\, HOY MARTES de 15:00h a 20:30h y MAÑANA MIÉRCOLES de 10:00h a 13:00h
URL:https://funerariairun.es/esquela/maribel-alvarez-cortes/
LOCATION:Funeraria Irún – Tanatorio Araso\, Polígono Araso\, Erregeoiana 3\, \,\, Irún\, Guipúzcoa\, 20305\, España
END:VEVENT
BEGIN:VEVENT
DTSTART;VALUE=DATE:20251001
DTEND;VALUE=DATE:20251003
DTSTAMP:20260423T115602
CREATED:20251001T180837Z
LAST-MODIFIED:20251001T180837Z
UID:121071-1759276800-1759449599@funerariairun.es
SUMMARY:Félix González de Peñaba Martín
DESCRIPTION:  \n Félix González De Peñalba Martín\n-R.I.P.-\n \n  \nFalleció el 1 de octubre de 2025 en su domicilio a los 61 años de edad\, después de recibir los Santos Sacramentos y la Bendición Apostólica de Su Santidad. \n  \nSus padres: Felicidad (†) y Fernando (†); sus hermanos: Fernando y Vanesa\, Mª Teresa y Jordi; sus sobrinos: Iratxe\, David\, Adrián; tía: Antonia Martín; cercanos: Ander\, Eider; \nprimos y demás familiares. \nRuegan a sus amistades encomienden Su alma a Dios y asistan a la Misa Funeral que se celebrará\, el JUEVES\, a las SIETE de la tarde en la iglesia SANTA MARIA MAGDALENA (HONDARRIBIA)\, \npor todo lo cual quedarán muy agradecidos. \n  \nHONDARRIBIA\, 1 de octubre de 2025 \n  \nNota: La familia NO recibe
URL:https://funerariairun.es/esquela/felix-gonzalez-de-penaba-martin/
LOCATION:Funeraria Irún – Tanatorio Araso\, Polígono Araso\, Erregeoiana 3\, \,\, Irún\, Guipúzcoa\, 20305\, España
END:VEVENT
BEGIN:VEVENT
DTSTART;VALUE=DATE:20251002
DTEND;VALUE=DATE:20251003
DTSTAMP:20260423T115602
CREATED:20251002T081332Z
LAST-MODIFIED:20251002T081332Z
UID:121074-1759363200-1759449599@funerariairun.es
SUMMARY:José Antonio Taberna Aristegui
DESCRIPTION:  \n† José Antonio Taberna Aristegui\n-R.I.P.-\n \n  \nFalleció el 1 de octubre de 2025 en su domicilio a los 62 años de edad. \n  \nSus padres: Sagrario y Antonio (†); su mujer: Fabiola Guzman; sus hijos: Marina\, Toño\, Carlos; sus hermanos: Martín\, Patxi\, Juan Carlos\, Idoia; sobrinos y demás familiares. \n  \nHONDARRIBIA\, 2 de octubre de 2025 \nNota: El velatorio está instalado en el TANATORIO CREMATORIO ARASO de IRUN\, HOY JUEVES de 11:00h a 19:30h \n 
URL:https://funerariairun.es/esquela/jose-antonio-taberna-aristegui/
LOCATION:Funeraria Irún – Tanatorio Araso\, Polígono Araso\, Erregeoiana 3\, \,\, Irún\, Guipúzcoa\, 20305\, España
END:VEVENT
BEGIN:VEVENT
DTSTART;VALUE=DATE:20251004
DTEND;VALUE=DATE:20251006
DTSTAMP:20260423T115602
CREATED:20251004T123132Z
LAST-MODIFIED:20251004T123612Z
UID:121078-1759536000-1759708799@funerariairun.es
SUMMARY:Jose Ignacio Ceberio Galardi
DESCRIPTION:  \n Jose Ignacio Ceberio Galardi\n-Goian Bego-\n \n  \nAtzo hil zen 73 urte zituela. \n  \nHaren emaztea: Mila Laboa; haren semeak: Xabier \, Jokin(†); anai-arrebak: Juan Mari eta Mª Carmen\, Jose Mari (†) eta Mª Luz\, Jesus eta Maribi\, Cristina eta Miguel\, Luis Mari eta Mila\, Miguel Angel (†) eta Elena\, Javier eta MªJose; ezkon anai-arrebak: Maite eta Eugenio; ilobak\, lehengusu eta gainontzeko ahaideak. \n  \nHONDARRIBIA\, 2025eko urriaren 4ean \nOharra: Gorpu beila IRUNGO ARASO BEILATOKI ERRAUSTEGIAN izango da GAUR\, LARUNBATA 16:00etatik 20:00etara\, eta BIHAR\, IGANDEA 10:00etatik 13:00etara.  \n 
URL:https://funerariairun.es/esquela/jose-ignacio-ceberio-galardi-2/
LOCATION:Funeraria Irún – Tanatorio Araso\, Polígono Araso\, Erregeoiana 3\, \,\, Irún\, Guipúzcoa\, 20305\, España
END:VEVENT
BEGIN:VEVENT
DTSTART;VALUE=DATE:20251005
DTEND;VALUE=DATE:20251007
DTSTAMP:20260423T115602
CREATED:20251005T110604Z
LAST-MODIFIED:20251005T110604Z
UID:121084-1759622400-1759795199@funerariairun.es
SUMMARY:Juan José Sagredo Martínez
DESCRIPTION:  \n† Juan José Sagredo Martínez\nR.I.P\n \nFalleció hoy a los 80 años de edad. \nSu esposa: Mª Isabel Yoldi; hermanos políticos: Mª Angeles Yoldi y Antonio Dianez (†)\, Luisa María Yoldi y Brigida Zazosa\, Fernándo Yoldi y Gregoria Nieva (†); sobrinos: Juan Luis\, Francisco\, Maribel\, Luis María\, Fernándo\, Iñaki; tíos\, primos y demás familiares. \n\n  \nIRUN\, 5 de octubre de 2025 \nNota: El velatorio está instalado MAÑANA\, LUNES\, de 10:00h a 14:00h y de 16:00h a 20:00h en el TANATORIO CREMATORIO ARASO DE IRUN. \n 
URL:https://funerariairun.es/esquela/juan-jose-sagredo-martinez/
LOCATION:Funeraria Irún – Tanatorio Araso\, Polígono Araso\, Erregeoiana 3\, \,\, Irún\, Guipúzcoa\, 20305\, España
END:VEVENT
BEGIN:VEVENT
DTSTART;VALUE=DATE:20251006
DTEND;VALUE=DATE:20251009
DTSTAMP:20260423T115602
CREATED:20251006T180835Z
LAST-MODIFIED:20251006T180835Z
UID:121088-1759708800-1759967999@funerariairun.es
SUMMARY:Mayte Valera Castro
DESCRIPTION:  \n† Mayte Varela Castro\n \nR.I.P\n\nFalleció hoy a los 52 años de edad\, después de recibir los Santos Sacramentos y la Bendición Apostólica de Su Santidad. \nSus padres: Manolo(†) y Gilda (†); su hija: Iris; su hermano: Carlos; sobrinos y demás familiares. \nRuegan a sus amistades encomienden su alma a Dios y asistan a los funerales que se celebrarán el  MIERCOLES\, a las SIETE de la tarde\, en la iglesia parroquial de SANTA MARIA DEL JUNCAL\, por todo lo cual les quedarán muy agradecidos \n  \nIRUN\, 6 de octubre de 2025 \nNota: El velatorio está instalado MAÑANA MARTES\, de 10:00h a 20:30h y MIERCOLES de 10:00h a 11:00h en el TANATORIO CREMATORIO ARASO DE IRUN. \n 
URL:https://funerariairun.es/esquela/mayte-varela-castro-2/
LOCATION:Funeraria Irún – Tanatorio Araso\, Polígono Araso\, Erregeoiana 3\, \,\, Irún\, Guipúzcoa\, 20305\, España
END:VEVENT
BEGIN:VEVENT
DTSTART;VALUE=DATE:20251007
DTEND;VALUE=DATE:20251008
DTSTAMP:20260423T115602
CREATED:20251007T085723Z
LAST-MODIFIED:20251007T085723Z
UID:121091-1759795200-1759881599@funerariairun.es
SUMMARY:Pedro Garmendia Davoz
DESCRIPTION:  \nPedro Garmendia Davoz\n \n  \n-D.E.P-\nFalleció el 6 de octubre de 2025 a los 79 años de edad\, después de recibir los Santos Sacramentos y la Bendición Apostólica de Su Santidad. \nSu mujer: Ramoni; sus hijos: Aitor y Cristina\, Isa\, Ainhoa y Garikoitz; nietos: Aintzane y Sergy\, Asier y Luna y AImar; hermanos: José María(†) y Conchi\, Paquita y Esteban(†); Pilar y Julián(†); Juanita y Antonio(†)\, José Joaquin(†) y Clarita\, Juncal e Ignacio (†) y Miguel Ángel(†). \nRuegan a sus amistades encomienden su alma a Dios y asistan a los funerales que se celebrarán el  MARTES\, a las SEIS de la tarde\, en la iglesia parroquial de NUESTRA SEÑORA DE ARANZAZU (VENTAS)\, por todo lo cual les quedarán muy agradecidos \n  \nIRUN\, 7 de octubre de 2025 \nNota: El velatorio está instalado MHOY\, de 11:00h a 17:00h  en el TANATORIO CREMATORIO ARASO DE IRUN. \n 
URL:https://funerariairun.es/esquela/pedro-garmendia-davoz/
LOCATION:Funeraria Irún – Tanatorio Araso\, Polígono Araso\, Erregeoiana 3\, \,\, Irún\, Guipúzcoa\, 20305\, España
END:VEVENT
BEGIN:VEVENT
DTSTART;VALUE=DATE:20251007
DTEND;VALUE=DATE:20251009
DTSTAMP:20260423T115602
CREATED:20251007T093004Z
LAST-MODIFIED:20251007T093004Z
UID:121094-1759795200-1759967999@funerariairun.es
SUMMARY:Rosario Gómez Ciria
DESCRIPTION:  \n† Rosario Gómez Ciria\n-D.E.P-\n  \n \n  \nFalleció el 7 de octubre de 2025 a los 90 años de edad\, después de recibir los Santos Sacramentos y la Bendición Apostólica de Su Santidad. \n  \nSu marido: Baldomero Almajano (†); sus hijos: Pedro y Alicia\, Eduardo; sus nietos: Carlos y Paula; sobrinos y demás familiares. \n«Nuestro agradecimiento a sus cuidadoras: Margarita y Narcisa\, y al centro de Dia Bidasoa por su trato tan cariñoso y humano» \n  \nRuegan a sus amistades encomienden su alma a Dios y asistan a los funerales que se celebrarán MAÑANA MIERCOLES\, a las SEIS de la tarde\, en la iglesia SAGRADA FAMILIA\, \npor todo lo cual les quedarán muy agradecidos \n  \nIRUN\, 7 de octubre de 2025 \nNota: El velatorio está instalado HOY MARTES de 10:00h a 14:00H y de 16:30 a 20:30h  en el TANATORIO CREMATORIO ARASO DE IRUN. \n 
URL:https://funerariairun.es/esquela/rosario-gomez-ciria/
LOCATION:Funeraria Irún – Tanatorio Araso\, Polígono Araso\, Erregeoiana 3\, \,\, Irún\, Guipúzcoa\, 20305\, España
END:VEVENT
BEGIN:VEVENT
DTSTART;VALUE=DATE:20251007
DTEND;VALUE=DATE:20251009
DTSTAMP:20260423T115602
CREATED:20251007T105116Z
LAST-MODIFIED:20251007T105116Z
UID:121097-1759795200-1759967999@funerariairun.es
SUMMARY:Juan Saiz Aguirreche
DESCRIPTION:  \n† Juan Saiz Aguirreche\n-D.E.P-\n  \n \n  \nFalleció el 7 de octubre de 2025 a los 77 años de edad. \n  \nSu mujer: Juncal Alzugaray; sus hijos: Oihana y Asier\, Miren y Bea\, Ion y Katallin; sus nietos: Luka\, Maren; hermanos: Ricardo\, Lourdes; hermanos políticos\, sobrinos y demás familiares. \n  \nRuegan a sus amistades encomienden su alma a Dios y asistan a los funerales que se celebrarán MAÑANA MIÉRCOLES\, a las SIETE de la tarde\, en la iglesia SANTA MARÍA MAGDALENA\, \npor todo lo cual les quedarán muy agradecidos \n  \nHONDARRIBIA\, 7 de octubre de 2025 \nNota: El velatorio está instalado HOY MARTES de 15:00h a 20:00h y MAÑANA MIÉRCOLES de 10:00h a 13:00h  en el TANATORIO CREMATORIO ARASO DE IRUN. \n 
URL:https://funerariairun.es/esquela/juan-saiz-aguirreche/
LOCATION:Funeraria Irún – Tanatorio Araso\, Polígono Araso\, Erregeoiana 3\, \,\, Irún\, Guipúzcoa\, 20305\, España
END:VEVENT
BEGIN:VEVENT
DTSTART;VALUE=DATE:20251008
DTEND;VALUE=DATE:20251010
DTSTAMP:20260423T115602
CREATED:20251008T095546Z
LAST-MODIFIED:20251008T095546Z
UID:121100-1759881600-1760054399@funerariairun.es
SUMMARY:Mª Pilar Gil Fernández
DESCRIPTION:  \n† Mª Pilar Gil Fernández\n(Vda. de Manuel Sánchez) \n-D.E.P-\n  \n \n  \nFalleció el 7 de octubre de 2025 a los 93 años de edad\, después de recibir los Santos Sacramentos y la Bendición Apostólica de Su Santidad. \n  \nSus hijos: Francisco Manuel\, Juan José y Ana; nietos: Iker\, Alexandra y Fran\, Xabi\, Mikel y June; biznieto: Beñat; hermana: Salvadora; tíos\, primos y demás familiares. \n  \nRuegan a sus amistades encomienden su alma a Dios y asistan a los funerales que se celebrarán el VIERNES\, a las SIETE de la tarde\, en la iglesia parroquial de SAN JOSE OBRERO (LAREAUNDI)\, \npor todo lo cual les quedarán muy agradecidos \n  \nIRUN\, 8 de octubre de 2025 \nNota: El velatorio está instalado HOY de 11:00h a 20:00h y MAÑANA de 10:00h a 12:00h  en el TANATORIO CREMATORIO ARASO DE IRUN. \n 
URL:https://funerariairun.es/esquela/ma-pilar-gil-fernandez/
LOCATION:Funeraria Irún – Tanatorio Araso\, Polígono Araso\, Erregeoiana 3\, \,\, Irún\, Guipúzcoa\, 20305\, España
END:VEVENT
BEGIN:VEVENT
DTSTART;VALUE=DATE:20251008
DTEND;VALUE=DATE:20251010
DTSTAMP:20260423T115602
CREATED:20251008T184429Z
LAST-MODIFIED:20251009T075328Z
UID:121103-1759881600-1760054399@funerariairun.es
SUMMARY:D. Serafin Sagarzazu Sagarzazu
DESCRIPTION:  \nSerafin Sagarzazu Sagarzazu\n-Goian Bego- \n  \n \n  \nAtzo hil zen\, 92 urte zituela. \n  \nHaren emaztea : Arantza Zurutuza ; Seme-alabak : Odeiko\, Maore eta Alex\, Libe eta Koldo; Bilobak: Kepa eta Nora; Anai-arrebak: Rosario eta Ramon (†)\, Eugenio (†); Ezkon-anai-arrebak: Sebas eta Lourdes ; ilobak eta gainontzeko senideak \n  \n « Boga\, Boga… » \nHONDARRBIAn\, 2025eko urriaren 9an. \n  \nOharra: Gorpu beila IRUNgo ARASO BEILATOKI ERRAUZTEGIAn izango da\, GAUR OSTEGUNA11:00etatik 13:30etara eta 15:30etatik 18:00ak arte. \n  \n 
URL:https://funerariairun.es/esquela/serafin-sagarzazu-sagarzazu-2/
LOCATION:Funeraria Irún – Tanatorio Araso\, Polígono Araso\, Erregeoiana 3\, \,\, Irún\, Guipúzcoa\, 20305\, España
END:VEVENT
BEGIN:VEVENT
DTSTART;VALUE=DATE:20251009
DTEND;VALUE=DATE:20251011
DTSTAMP:20260423T115602
CREATED:20251009T094713Z
LAST-MODIFIED:20251009T094843Z
UID:121109-1759968000-1760140799@funerariairun.es
SUMMARY:Dña. Juncal Martiarena Estomba
DESCRIPTION:  \n Juncal Martiarena Estomba\n-R.I.P- \n \n  \n  \n  \nFalleció el 8 de octubre de 2025 a los 91 años de edad. \n  \nHermanos: Mª Angeles y M. Iza (†)\, Teodoro y Eukene; hermanas políticas: Elena Eceiza y Andrés Berberena (†)\, Nati Pejenaute y Batti Eceiza (†); sobrinos y demás familiares. \n  \nIRUN-HONDARRIBIA\, 9 de octubre de 2025 \n  \nNota: El velatorio está instalado HOY JUEVES de 15:00h a 19:30h y MAÑANA VIERNES de 10:00h a 12:30h en el TANATORIO CREMATORIO ARASO DE IRUN \n 
URL:https://funerariairun.es/esquela/dna-juncal-martiarena-estomba/
LOCATION:Funeraria Irún – Tanatorio Araso\, Polígono Araso\, Erregeoiana 3\, \,\, Irún\, Guipúzcoa\, 20305\, España
END:VEVENT
BEGIN:VEVENT
DTSTART;VALUE=DATE:20251011
DTEND;VALUE=DATE:20251012
DTSTAMP:20260423T115602
CREATED:20251011T080853Z
LAST-MODIFIED:20251011T080853Z
UID:121113-1760140800-1760227199@funerariairun.es
SUMMARY:Dña. Mª Pilar Gil Gómez
DESCRIPTION:  \nMª Pilar Gil Gómez\n-D.E.P- \n \n  \n  \n  \nFalleció el 10 de octubre de 2025 a los 88 años de edad\, después de recibir los Santos Sacramentos y la Bendición Apostólica de su Santidad. \n  \nEsposo: Martín Moreno; sus hijos: Carlos y Ana\, Javi y Chus\, Pilar y Tomás\, Mamen y Nacho\, Ángel y Lara; nietos: Adrián\, Marta\, Mónica\, Ane\, Beñat\, Emma y Ángela; hermana: Carmen y demás familiares. \nAgradecimiento especial a Eliette por sus cuidados y atención. \nLa misa Funeral se celebrará el LUNES 13 a las SIETE de la tarde en la Iglesia Parroquial de NUESTRA SEÑORA DEL JUNCAL\, por todo lo cuál les quedarán muy agradecidos. \nIRUN\, 11 de octubre de 2025 \n  \nNota: El velatorio está instalado HOY SÁBADO de 10:00h a 20:00h  en el TANATORIO CREMATORIO ARASO DE IRUN \n 
URL:https://funerariairun.es/esquela/dna-pilar-gil-gomez-2/
LOCATION:Funeraria Irún – Tanatorio Araso\, Polígono Araso\, Erregeoiana 3\, \,\, Irún\, Guipúzcoa\, 20305\, España
END:VEVENT
BEGIN:VEVENT
DTSTART;VALUE=DATE:20251012
DTEND;VALUE=DATE:20251014
DTSTAMP:20260423T115602
CREATED:20251012T094928Z
LAST-MODIFIED:20251012T094928Z
UID:121116-1760227200-1760399999@funerariairun.es
SUMMARY:Dña. Mª Luisa Coronado Urolategui
DESCRIPTION:  \nMª Luisa Coronado Urolategui\n(Vda. de Juan María Zubiri) \n-D.E.P- \n \n  \nFalleció el 12 de octubre de 2025 a los 79 años de edad\, después de recibir los Santos Sacramentos y la Bendición Apostólica de su Santidad. \nSus hijos: Milagros\, Natalia y Antxon\, Silvia e Iñaki; nietos: Aritz\, Asier\, Aimar\, Julen; hermana: Maite (†); sobrinos\, tíos\, primos y demás familiares. \nRuegan a sus amistades encomienden Su alma a Dios y asistan a la Misa Funeral que se celebrará\, el LUNES\, a las SIETE de la tarde en la Iglesia PARROQUIAL NUESTRA SEÑORA del JUNCAL\, por todo lo cual les quedarán muy agradecidos. \nIRUN\, 12 de octubre de 2025 \n  \nNota: El velatorio está instalado HOY de 12:00h a 20:00h  y MAÑANA de 10:00h a 14:00h en el TANATORIO CREMATORIO ARASO DE IRUN \n 
URL:https://funerariairun.es/esquela/dna-maria-luisa-coronado-urolategui/
LOCATION:Funeraria Irún – Tanatorio Araso\, Polígono Araso\, Erregeoiana 3\, \,\, Irún\, Guipúzcoa\, 20305\, España
END:VEVENT
BEGIN:VEVENT
DTSTART;VALUE=DATE:20251012
DTEND;VALUE=DATE:20251014
DTSTAMP:20260423T115602
CREATED:20251012T145655Z
LAST-MODIFIED:20251012T145758Z
UID:121119-1760227200-1760399999@funerariairun.es
SUMMARY:D. Asier Camba Fernández
DESCRIPTION:  \nAsier Camba Fernández\n-R.I.P- \n \n  \nFalleció el 12 de octubre de 2025 a los 46 años de edad\, después de recibir los Santos Sacramentos y la Bendición Apostólica de su Santidad. \nPadres: Jesusa Fernández y Jesús María (†);tíos\, primos y demás familiares. \nRuegan a sus amistades encomienden Su alma a Dios y asistan a la Misa Funeral que se celebrará\, el MARTES\, a las SIETE de la tarde en la Iglesia PARROQUIAL NUESTRA SEÑORA del JUNCAL\, por todo lo cual les quedarán muy agradecidos. \nIRUN\, 12 de octubre de 2025 \n  \nNota: El velatorio está instalado HOY de 16:00h a 20:00h  y MAÑANA LUNES de 10:00h a 18:00h en el TANATORIO CREMATORIO ARASO DE IRUN \n 
URL:https://funerariairun.es/esquela/d-asier-camba-fernandez/
LOCATION:Funeraria Irún – Tanatorio Araso\, Polígono Araso\, Erregeoiana 3\, \,\, Irún\, Guipúzcoa\, 20305\, España
END:VEVENT
BEGIN:VEVENT
DTSTART;VALUE=DATE:20251014
DTEND;VALUE=DATE:20251016
DTSTAMP:20260423T115602
CREATED:20251014T100410Z
LAST-MODIFIED:20251014T100820Z
UID:121124-1760400000-1760572799@funerariairun.es
SUMMARY:D. Ceferino Elosegui Cortadi
DESCRIPTION:  \nCeferino Elosegui Cortadi\n-R.I.P- \n \n  \nFalleció el 13 de octubre de 2025\, después de recibir los Santos Sacramentos y la Bendición Apostólica de su Santidad. \nSu esposa: Maite Plaza; sus hijos: Arantza e Iñaki\, Itxaso y Kepa; nietos: Paula\, Aitor\, Ane; hermanos: Asun(†)\, Jose Cruz(†) y Manoli(†)\, Miguel(†) y Pepita\, Isaac y Mª Jesús\, Ángela\, Carlos y Rosi\, Juanjo(†) y Pepi\, Mª Cruz\, Elvira; sobrinos y demás familiares. \nIRUN\, 14 de octubre de 2025 \n  \nNota: El velatorio está instalado HOY de 14:00h a 20:00h  y MAÑANA MIERCOLES de 10:00h a 13:00h en el TANATORIO CREMATORIO ARASO DE IRUN \n 
URL:https://funerariairun.es/esquela/d-ceferino-elosegui-cortadi/
LOCATION:Funeraria Irún – Tanatorio Araso\, Polígono Araso\, Erregeoiana 3\, \,\, Irún\, Guipúzcoa\, 20305\, España
END:VEVENT
BEGIN:VEVENT
DTSTART;VALUE=DATE:20251017
DTEND;VALUE=DATE:20251019
DTSTAMP:20260423T115602
CREATED:20251017T121812Z
LAST-MODIFIED:20251017T144531Z
UID:121130-1760659200-1760831999@funerariairun.es
SUMMARY:D. José Mestre Sáez
DESCRIPTION:  \n José Mestre Sáez\n«Pepin» \n(Vdo. de Gloria Bengoechea) \n-R.I.P- \n \n  \nFalleció el 17 de octubre de 2025 a los 95 años de edad\, después de recibir los Santos Sacramentos y la Bendición Apostólica de su Santidad. \n  \nSus hijos: Amparo y Jesús\, Mª Angeles y José; sus nietos: Jesús\, Joserra\, Esther\, María y Asier\, Aitor y Laura; sus biznietos: Iria\, Maialen\, Izar\, Kerman\, Arane; \nhermanos políticos\,  sobrinos y demás familiares. \n  \nIRUN\, 17 de octubre de 2025 \n  \nNota: El velatorio está instalado HOY VIERNES de 17:00h a 20:00h  y MAÑANA SÁBADO de 10:00h a 12:00h en el TANATORIO CREMATORIO ARASO DE IRUN \n 
URL:https://funerariairun.es/esquela/d-jose-mestre-saez/
LOCATION:Funeraria Irún – Tanatorio Araso\, Polígono Araso\, Erregeoiana 3\, \,\, Irún\, Guipúzcoa\, 20305\, España
END:VEVENT
BEGIN:VEVENT
DTSTART;VALUE=DATE:20251020
DTEND;VALUE=DATE:20251021
DTSTAMP:20260423T115602
CREATED:20251019T171044Z
LAST-MODIFIED:20251019T171044Z
UID:121137-1760918400-1761004799@funerariairun.es
SUMMARY:D. Francisco Sánchez Noche
DESCRIPTION:  \n(†) Francisco Sánchez Noche\n\n-D.E.P- \n \n  \nFalleció el 19 de octubre de 2025 a los 91 años de edad\, después de recibir los Santos Sacramentos y la Bendición Apostólica de su Santidad. \n  \nSu esposa: María Juncal; Hijos: Francisco Javier y Merche; José Ignacio; Nietos: Francisco Javier y Esther; Hermanos: Alejandro(†)y Conchi(†); Valentin(†) y Pilar(†); Basilio y MªLuisa(†); Dolores y Josecho(†); Juanita y Satur; Tios\, primos y demás familia. \n  \nIRUN\, 19 de octubre de 2025 \n  \nNota: El velatorio está instalado MAÑANA LUNES de 10:00h a 13:30h y de 15:30 a 20:00h en el TANATORIO CREMATORIO ARASO DE IRUN \n 
URL:https://funerariairun.es/esquela/d-francisco-sanchez-noche/
LOCATION:Funeraria Irún – Tanatorio Araso\, Polígono Araso\, Erregeoiana 3\, \,\, Irún\, Guipúzcoa\, 20305\, España
END:VEVENT
BEGIN:VEVENT
DTSTART;VALUE=DATE:20251020
DTEND;VALUE=DATE:20251022
DTSTAMP:20260423T115602
CREATED:20251020T101820Z
LAST-MODIFIED:20251020T101837Z
UID:121141-1760918400-1761091199@funerariairun.es
SUMMARY:D. Txema Baraibar Beraza
DESCRIPTION:  \n Txema Baraibar Beraza\n-D.E.P- \n \n  \nFalleció el 20 de octubre de 2025 a los 63 años de edad. \n  \nSu esposa: Arantxa Munduate; sus hijos: Unai y Juli\, Gorka y María; sus nietos: Haizea\, Hegoa; hermanos políticos: Gabriel eIsabel\, Toño e Iciar; \nsobrinos y demás familiares. \n  \nRuegan a sus amistades encomienden Su alma a Dios y asistan a la Misa Funeral que se celebrará\, MAÑANA MARTES\, a las SEIS de la tarde en la Iglesia de NUESTRA SEÑORA DE ARANZAZU (VENTAS)\, \npor todo lo cual les quedarán muy agradecidos. \n  \nIRUN\, 20 de octubre de 2025 \n  \nNota: El velatorio está instalado HOY LUNES de 11:30h a 20:00h y MAÑANA MARTES de 10:00h a 12:00h en el TANATORIO CREMATORIO ARASO DE IRUN \n 
URL:https://funerariairun.es/esquela/d-txema-baraibar-beraza/
LOCATION:Funeraria Irún – Tanatorio Araso\, Polígono Araso\, Erregeoiana 3\, \,\, Irún\, Guipúzcoa\, 20305\, España
END:VEVENT
BEGIN:VEVENT
DTSTART;VALUE=DATE:20251020
DTEND;VALUE=DATE:20251022
DTSTAMP:20260423T115602
CREATED:20251020T113040Z
LAST-MODIFIED:20251020T113040Z
UID:121145-1760918400-1761091199@funerariairun.es
SUMMARY:Dña. Ceferina Ayu García
DESCRIPTION:  \n Ceferina Ayu García\n-D.E.P- \n \n  \nFalleció el 20 de octubre de 2025 a los 95 años de edad. \n  \nSus sobrinos: Carmen\, Igor\, Nerea\, Ernesto; y demás familiares. \n  \nIRUN\, 20 de octubre de 2025 \n  \nNota: El velatorio está instalado HOY LUNES de 15:30h a 20:00h y MAÑANA MARTES de 10:00h a 18:00h en el TANATORIO CREMATORIO ARASO DE IRUN. \n 
URL:https://funerariairun.es/esquela/ceferina-ayu-garcia-2/
LOCATION:Funeraria Irún – Tanatorio Araso\, Polígono Araso\, Erregeoiana 3\, \,\, Irún\, Guipúzcoa\, 20305\, España
END:VEVENT
BEGIN:VEVENT
DTSTART;VALUE=DATE:20251021
DTEND;VALUE=DATE:20251023
DTSTAMP:20260423T115602
CREATED:20251021T122311Z
LAST-MODIFIED:20251021T124559Z
UID:121151-1761004800-1761177599@funerariairun.es
SUMMARY:Dña. Txaro Juanenea Ibarra
DESCRIPTION:  \nTxaro Juanenea Ibarra\n-Goian Bego- \n \n  \n2025eko urriaren 20an hil zen 55 urte zituela. \n  \nHaren senarra: Ibon Berges; seme-alabak: Maddalen\, Unax; gurasoak: Joxemari (†) eta Carmen (†); ezkon gurasoak: Juanito Berges eta Mamen Ugartemendia (†); anai-arrebak: Jose eta Junkal Ugartemendia\, Kamen eta Juanan Pereira; ezkon anai-arrebak: Ainara Berges eta Patxi Amunarriz; ilobak: Uxue\, Oihane\, Leire\, Nora\, Jon \, Paule; lehengusuak eta gainontzeko ahaideak. \n  \n«Beti gure bihotzean. Maite zaitugu\, ama.» \n  \nIRUNEN\, 2025eko urriaren 21ean \n  \nOharra: Gorpu beilla IRUNGO ARASO BEILATOKI ERRAUSTEGIAN izango da\, GAUR ASTEARTEA 12:00etatik 14:00ak arte eta 16:00etatik 20:30etara eta BIHAR ASTEAZKENA 10:00etatik 13:30etara. \n 
URL:https://funerariairun.es/esquela/d-na-txaro-juanenea-ibarra-2/
LOCATION:Funeraria Irún – Tanatorio Araso\, Polígono Araso\, Erregeoiana 3\, \,\, Irún\, Guipúzcoa\, 20305\, España
END:VEVENT
BEGIN:VEVENT
DTSTART;VALUE=DATE:20251023
DTEND;VALUE=DATE:20251025
DTSTAMP:20260423T115602
CREATED:20251023T104725Z
LAST-MODIFIED:20251023T104736Z
UID:121161-1761177600-1761350399@funerariairun.es
SUMMARY:Dña. Crisanta Echeverria Genova
DESCRIPTION:† Crisanta Echeverria Genova\n(Tomas Galardi.ren alarguna) \n-Goian bego- \n \n  \n2025ko urriaren 23an zen 89 urte zituela. \n  \nBere seme-alabak: Mila eta Iñaki\, Gema eta Imanol\, Carmen eta Joxean\, Joseba (†) eta Eli; bere bilobak: Eneko eta Amaia\, Jon\, Unai\, Iker\, Maialen\, Julen; \nbere berbiloba: Iker; anai-arrebak\, ilobak eta gainontzeko familia. \n  \n«Heriotza garratza da. Baina badakit nik zeini diodan sinistu eta bidearen azkenean zai daukadala badakit. Horregatik\, negar samin honek itxaropen lore bat bustitzen du.» \n  \nHaren animaren aldeko oroitza eskatzen dizuete eta arren LARUNBATEAN\, hilak 25\, arratsaldeko SEIETAN\, etor zaiteztela ARANTZAZUKO ANDRE MARIA (VENTAS) elizan egingo den hiletara. \nAldez aurretik\, mila esker. \nIRUN\, 2025ko urriak 23 \n  \nOharra: Gorputz beila IRUNgo ARASO BEILATOKI ERRAUZTEGIAN izango da GAUR OSTEGUNA 12:00tatik 20:30ak arte eta BIHAR OSTIRALA 10:00tatik 13:00ak arte. \n 
URL:https://funerariairun.es/esquela/dna-crisanta-echeverria-genova/
LOCATION:Funeraria Irún – Tanatorio Araso\, Polígono Araso\, Erregeoiana 3\, \,\, Irún\, Guipúzcoa\, 20305\, España
END:VEVENT
BEGIN:VEVENT
DTSTART;VALUE=DATE:20251026
DTEND;VALUE=DATE:20251029
DTSTAMP:20260423T115602
CREATED:20251026T134527Z
LAST-MODIFIED:20251026T134527Z
UID:121169-1761436800-1761695999@funerariairun.es
SUMMARY:Dña. Felipa Zapiain Sarasola
DESCRIPTION: \nFelipa Zapiain Sarasola\n-Goian Bego- \n  \n \nGaur hil da\, 2025eko urriaren 26ean\, 94 urte zituela. \n  \n«Feli\, zure alaitasuna eta bizipoza beti gogoratuko ditugu. \nAsko maite zaitugu.» \nZure senideak. \nGure esker onak Inmaculasa Egoitzako langile maitagarri guztiei. \n  \nHaren animaren aldeko otoitza eskatzen dizuete eta arren ASTEARTEAN\, hilak 28\, arratsaldeko ZAZPIETAN\, etor zaiteztela BETHARRAM (HONDARRIBI) parroki elizan egingo den hiletara. Aldez aurretik\, mila esker. \n  \nHONDARRIBIAN\, 2025eko urriaren 26ean \n  \nOharra: Gorpu beila IRUNGO ARASO BEILATOKI ERRAUSTEGIAN izango da\, GAUR IGANDEA 18:30etatik 20:00etara eta BIHAR ASTELEHENA 10:00etatik 14:00etara eta 16:00etatik 20:00etara. \n 
URL:https://funerariairun.es/esquela/dna-felipa-zapiain-sarasola/
LOCATION:Funeraria Irún – Tanatorio Araso\, Polígono Araso\, Erregeoiana 3\, \,\, Irún\, Guipúzcoa\, 20305\, España
END:VEVENT
BEGIN:VEVENT
DTSTART;VALUE=DATE:20251030
DTEND;VALUE=DATE:20251102
DTSTAMP:20260423T115602
CREATED:20251024T114257Z
LAST-MODIFIED:20251031T082658Z
UID:121165-1761782400-1762041599@funerariairun.es
SUMMARY:D. Fernando Pérez Feijóo
DESCRIPTION: \n† Don Fernando Pérez Feijóo\n-D.E.P- \n  \n  \n \n  \nFalleció el 30 de octubre de 2025 a los 68 años de edad\, después de recibir los Santos Sacramentos y la Bendición de su Santidad. \n  \nSu esposa: Carmen; sus hijos: Marta y Eduardo; hermanos: Encarni(†)\, Loli(†)\, Montse\, Alberto y Ángela; hermanos políticos: Joaquina\, María Ángeles\, José Luis\, Emilio\, José\, María Jesús\, pedro\, Rafa\, Rubén\, Carlos(†)\, Victoriano y Manoli. \n  \n  \nRuegan a sus amistades encomienden Su alma a Dios y asistan a la Misa Funeral que se celebrará\, el LUNES\, día 3 a las SIETE de la tarde en la Iglesia Nuestra Señora del Juncal\, por todo lo cual les quedaran muy agradecidos. \nIRUN\, 31 de octubre de 2025 \n  \nNOTA: El velatorio está instalado HOY VIERNES de 10:00h a 14:30 y de 15:30 a 20:30h\, MAÑANA SÁBADO de 10:00h a 14:00 en el TANATORIO CREMATORIO ARASO DE IRUN. \n 
URL:https://funerariairun.es/esquela/fernando-perez-feijoo/
LOCATION:Funeraria Irún – Tanatorio Araso\, Polígono Araso\, Erregeoiana 3\, \,\, Irún\, Guipúzcoa\, 20305\, España
END:VEVENT
END:VCALENDAR